BEGIN:VCALENDAR
VERSION:2.0
PRODID:-// - ECPv5.6.0//NONSGML v1.0//EN
CALSCALE:GREGORIAN
METHOD:PUBLISH
X-ORIGINAL-URL:http://www.reggiapower.it
X-WR-CALDESC:Eventi per 
BEGIN:VTIMEZONE
TZID:Europe/Rome
BEGIN:DAYLIGHT
TZOFFSETFROM:+0100
TZOFFSETTO:+0200
TZNAME:CEST
DTSTART:20190331T010000
END:DAYLIGHT
BEGIN:STANDARD
TZOFFSETFROM:+0200
TZOFFSETTO:+0100
TZNAME:CET
DTSTART:20191027T010000
END:STANDARD
END:VTIMEZONE
BEGIN:VEVENT
DTSTART;VALUE=DATE:20190526
DTEND;VALUE=DATE:20190527
DTSTAMP:20260423T164317
CREATED:20190504T125700Z
LAST-MODIFIED:20190504T125700Z
UID:3523-1558828800-1558915199@www.reggiapower.it
SUMMARY:1° Gara Podistica " Real Sito" Carditello
DESCRIPTION:Corsa su strada 10 km
URL:http://www.reggiapower.it/?tribe_events=1-gara-podistica-real-sito-carditello
END:VEVENT
END:VCALENDAR