BEGIN:VCALENDAR
VERSION:2.0
PRODID:-// - ECPv5.6.0//NONSGML v1.0//EN
CALSCALE:GREGORIAN
METHOD:PUBLISH
X-ORIGINAL-URL:http://www.reggiapower.it
X-WR-CALDESC:Eventi per 
BEGIN:VTIMEZONE
TZID:Europe/Rome
BEGIN:DAYLIGHT
TZOFFSETFROM:+0100
TZOFFSETTO:+0200
TZNAME:CEST
DTSTART:20210328T010000
END:DAYLIGHT
BEGIN:STANDARD
TZOFFSETFROM:+0200
TZOFFSETTO:+0100
TZNAME:CET
DTSTART:20211031T010000
END:STANDARD
END:VTIMEZONE
BEGIN:VEVENT
DTSTART;VALUE=DATE:20210613
DTEND;VALUE=DATE:20210614
DTSTAMP:20260423T124630
CREATED:20210602T073733Z
LAST-MODIFIED:20210602T073807Z
UID:4438-1623542400-1623628799@www.reggiapower.it
SUMMARY:"1° Campestre Reale" real sitodicarditello
DESCRIPTION:gara podistica campestre sulla distanza di 10 km
URL:http://www.reggiapower.it/?tribe_events=1-campestre-reale-real-sitodicarditello
LOCATION:San Tammaro (CE)\, Via Carditello\, San Tammaro\, caserta\, 81050\, Italia
END:VEVENT
END:VCALENDAR